BEGIN:VCALENDAR
PRODID:-//SINGPromos.com//NONSGML v1.0//EN
VERSION:2.0
CALSCALE:GREGORIAN
METHOD:PUBLISH
X-WR-CALNAME:SINGPromos.com
X-ORIGINAL-URL:https://singpromos.com
X-WR-CALDESC:Events for SINGPromos.com
BEGIN:VEVENT
DTSTART:20150227T000000
DTEND:20150228T235900
DTSTAMP:20260420T012254
CREATED:20150226T173103
LAST-MODIFIED:20150226T173103
UID:136951@https://singpromos.com
SUMMARY:Chingay 2015 Parade @ Singapore Flyer 27 - 28 Feb 2015
DESCRIPTION:Exciting and exotic performances by foreign contingents from Gansu, Suzhou, Tianjin, Xinjiang, India, Indonesia, Japan, Malaysia & more. For more information, visit [ https://singpromos.com/happenings/chingay-2015-parade-singapore-flyer-27-28-feb-2015-136951/ ]. 
LOCATION:
URL:https://singpromos.com/happenings/chingay-2015-parade-singapore-flyer-27-28-feb-2015-136951/
END:VEVENT
END:VCALENDAR