BEGIN:VCALENDAR
PRODID:-//SINGPromos.com//NONSGML v1.0//EN
VERSION:2.0
CALSCALE:GREGORIAN
METHOD:PUBLISH
X-WR-CALNAME:SINGPromos.com
X-ORIGINAL-URL:https://singpromos.com
X-WR-CALDESC:Events for SINGPromos.com
BEGIN:VEVENT
DTSTART:20150308T000000
DTEND:20150317T235900
DTSTAMP:20260422T082146
CREATED:20150305T154458
LAST-MODIFIED:20150226T192144
UID:137002@https://singpromos.com
SUMMARY:MiniInTheBox $4 OFF Storewide Coupon Code 8 - 17 Mar 2015
DESCRIPTION:Get $4 OFF when you make a minimum purchase of $36.. For more information, visit [ https://singpromos.com/department-stores/miniinthebox-4-off-storewide-coupon-code-8-17-mar-2015-137002/ ]. 
LOCATION:
URL:https://singpromos.com/department-stores/miniinthebox-4-off-storewide-coupon-code-8-17-mar-2015-137002/
END:VEVENT
END:VCALENDAR