BEGIN:VCALENDAR
PRODID:-//SINGPromos.com//NONSGML v1.0//EN
VERSION:2.0
CALSCALE:GREGORIAN
METHOD:PUBLISH
X-WR-CALNAME:SINGPromos.com
X-ORIGINAL-URL:https://singpromos.com
X-WR-CALDESC:Events for SINGPromos.com
BEGIN:VEVENT
DTSTART:20150228T000000
DTEND:20150301T235900
DTSTAMP:20260422T075746
CREATED:20150228T155921
LAST-MODIFIED:20150228T155921
UID:137226@https://singpromos.com
SUMMARY:Courts Final Weekend Clearout Offers 28 Feb - 1 Mar 2015
DESCRIPTION:Courts is having a Final Weekend Clearout at all stores and online. Check out some of the offers now. For more information, visit [ https://singpromos.com/department-stores/courts-final-weekend-clearout-offers-28-feb-1-mar-2015-137226/ ]. 
LOCATION:
URL:https://singpromos.com/department-stores/courts-final-weekend-clearout-offers-28-feb-1-mar-2015-137226/
END:VEVENT
END:VCALENDAR