BEGIN:VCALENDAR
PRODID:-//SINGPromos.com//NONSGML v1.0//EN
VERSION:2.0
CALSCALE:GREGORIAN
METHOD:PUBLISH
X-WR-CALNAME:SINGPromos.com
X-ORIGINAL-URL:https://singpromos.com
X-WR-CALDESC:Events for SINGPromos.com
BEGIN:VEVENT
DTSTART:20150306T000000
DTEND:20150308T235900
DTSTAMP:20260420T073141
CREATED:20150303T165038
LAST-MODIFIED:20150305T164855
UID:137505@https://singpromos.com
SUMMARY:Dynasty Travel Celebration Travel Fair @ Marina Square 6 - 8 Mar 2015
DESCRIPTION:Celebration Travel Fair at Marina Square Central Atrium from 6 March to 8 March 2015. For more information, visit [ https://singpromos.com/happenings/dynasty-travel-celebration-travel-fair-marina-square-6-8-mar-2015-137505/ ]. 
LOCATION:039594
URL:https://singpromos.com/happenings/dynasty-travel-celebration-travel-fair-marina-square-6-8-mar-2015-137505/
END:VEVENT
END:VCALENDAR