BEGIN:VCALENDAR
PRODID:-//SINGPromos.com//NONSGML v1.0//EN
VERSION:2.0
CALSCALE:GREGORIAN
METHOD:PUBLISH
X-WR-CALNAME:SINGPromos.com
X-ORIGINAL-URL:https://singpromos.com
X-WR-CALDESC:Events for SINGPromos.com
BEGIN:VEVENT
DTSTART:20150306T000000
DTEND:20150308T235900
DTSTAMP:20260422T082149
CREATED:20150306T211144
LAST-MODIFIED:20150306T211209
UID:138045@https://singpromos.com
SUMMARY:Uniqlo Islandwide Limited Offers 6 - 8 Mar 2015
DESCRIPTION:Women's leggings pants at only $24.90 (U.P. $29.90). More limited offers in store. For more information, visit [ https://singpromos.com/fashion-accessories/uniqlo-islandwide-limited-offers-6-8-mar-2015-138045/ ]. 
LOCATION:
URL:https://singpromos.com/fashion-accessories/uniqlo-islandwide-limited-offers-6-8-mar-2015-138045/
END:VEVENT
END:VCALENDAR