BEGIN:VCALENDAR
PRODID:-//SINGPromos.com//NONSGML v1.0//EN
VERSION:2.0
CALSCALE:GREGORIAN
METHOD:PUBLISH
X-WR-CALNAME:SINGPromos.com
X-ORIGINAL-URL:https://singpromos.com
X-WR-CALDESC:Events for SINGPromos.com
BEGIN:VEVENT
DTSTART:20150313T000000
DTEND:20150315T235900
DTSTAMP:20260420T035719
CREATED:20150312T181309
LAST-MODIFIED:20150312T181309
UID:138806@https://singpromos.com
SUMMARY:Cristofori Warehouse Sale @ Bedok 13 - 15 Mar 2015
DESCRIPTION:300 Pianos, 1000 Guitars & Ukuleles, 100 Drums & more. For more information, visit [ https://singpromos.com/warehouse-sales/cristofori-warehouse-sale-bedok-13-15-mar-2015-138806/ ]. 
LOCATION:489980
URL:https://singpromos.com/warehouse-sales/cristofori-warehouse-sale-bedok-13-15-mar-2015-138806/
END:VEVENT
END:VCALENDAR