BEGIN:VCALENDAR
PRODID:-//SINGPromos.com//NONSGML v1.0//EN
VERSION:2.0
CALSCALE:GREGORIAN
METHOD:PUBLISH
X-WR-CALNAME:SINGPromos.com
X-ORIGINAL-URL:https://singpromos.com
X-WR-CALDESC:Events for SINGPromos.com
BEGIN:VEVENT
DTSTART:20150313T000000
DTEND:20150323T235900
DTSTAMP:20260420T013922
CREATED:20150313T194944
LAST-MODIFIED:20150320T213346
UID:139006@https://singpromos.com
SUMMARY:Audio House Electronics, TV, Notebooks & Appliances Offers @ Liang Court 13 - 23 Mar 2015
DESCRIPTION:Massive Renovation Sale at Liang Court. For more information, visit [ https://singpromos.com/department-stores/audio-house-electronics-tv-notebooks-appliances-offers-liang-court-13-23-mar-2015-139006/ ]. 
LOCATION:179030
URL:https://singpromos.com/department-stores/audio-house-electronics-tv-notebooks-appliances-offers-liang-court-13-23-mar-2015-139006/
END:VEVENT
END:VCALENDAR