BEGIN:VCALENDAR
PRODID:-//SINGPromos.com//NONSGML v1.0//EN
VERSION:2.0
CALSCALE:GREGORIAN
METHOD:PUBLISH
X-WR-CALNAME:SINGPromos.com
X-ORIGINAL-URL:https://singpromos.com
X-WR-CALDESC:Events for SINGPromos.com
BEGIN:VEVENT
DTSTART:20150320T000000
DTEND:20150320T235900
DTSTAMP:20260422T075747
CREATED:20150320T051108
LAST-MODIFIED:20150320T015018
UID:139701@https://singpromos.com
SUMMARY:Courts Up To 85% Off 1-Day Offers 20 Mar 2015
DESCRIPTION:Special deals up to 85% off at 12pm and 5pm on 20 March 2015 at all stores and online. For more information, visit [ https://singpromos.com/department-stores/courts-up-to-85-off-1-day-offers-20-mar-2015-139701/ ]. 
LOCATION:
URL:https://singpromos.com/department-stores/courts-up-to-85-off-1-day-offers-20-mar-2015-139701/
END:VEVENT
END:VCALENDAR