BEGIN:VCALENDAR
PRODID:-//SINGPromos.com//NONSGML v1.0//EN
VERSION:2.0
CALSCALE:GREGORIAN
METHOD:PUBLISH
X-WR-CALNAME:SINGPromos.com
X-ORIGINAL-URL:https://singpromos.com
X-WR-CALDESC:Events for SINGPromos.com
BEGIN:VEVENT
DTSTART:20150330T000000
DTEND:20150405T235900
DTSTAMP:20260422T082144
CREATED:20150330T003855
LAST-MODIFIED:20150330T003905
UID:140641@https://singpromos.com
SUMMARY:TigerAir From $42 (all-in) Promo Fares 30 Mar - 5 Apr 2015
DESCRIPTION:Kuala Lumpur all-in from $42, Krabi $45, Langkawi $49, Jakarta $51, Ho Chi Minh City $56, Phuket $58, Bangkok $59, Penang $59, Surabaya $69, Hat Yai $70, Hong Kong $83 & more. For more information, visit [ https://singpromos.com/airlines-flights/tigerair-from-42-all-in-promo-fares-30-mar-5-apr-2015-140641/ ]. 
LOCATION:
URL:https://singpromos.com/airlines-flights/tigerair-from-42-all-in-promo-fares-30-mar-5-apr-2015-140641/
END:VEVENT
END:VCALENDAR