BEGIN:VCALENDAR
PRODID:-//SINGPromos.com//NONSGML v1.0//EN
VERSION:2.0
CALSCALE:GREGORIAN
METHOD:PUBLISH
X-WR-CALNAME:SINGPromos.com
X-ORIGINAL-URL:https://singpromos.com
X-WR-CALDESC:Events for SINGPromos.com
BEGIN:VEVENT
DTSTART:20150401T000000
DTEND:20150531T235900
DTSTAMP:20260422T082301
CREATED:20150401T170814
LAST-MODIFIED:20150415T121235
UID:140898@https://singpromos.com
SUMMARY:Dockers Pants 2 for $149.90 & 3 for $199.90 Promotion 1 Apr - 31 May 2015
DESCRIPTION:Jay Gee Card and Citibank Card Holders enjoy additional 5% off.. For more information, visit [ https://singpromos.com/fashion-accessories/dockers-pants-2-for-149-90-3-for-199-90-promotion-1-apr-31-may-2015-140898/ ]. 
LOCATION:
URL:https://singpromos.com/fashion-accessories/dockers-pants-2-for-149-90-3-for-199-90-promotion-1-apr-31-may-2015-140898/
END:VEVENT
END:VCALENDAR