BEGIN:VCALENDAR
PRODID:-//SINGPromos.com//NONSGML v1.0//EN
VERSION:2.0
CALSCALE:GREGORIAN
METHOD:PUBLISH
X-WR-CALNAME:SINGPromos.com
X-ORIGINAL-URL:https://singpromos.com
X-WR-CALDESC:Events for SINGPromos.com
BEGIN:VEVENT
DTSTART:20150402T000000
DTEND:20150406T235900
DTSTAMP:20260420T050959
CREATED:20150402T220235
LAST-MODIFIED:20150402T220235
UID:141179@https://singpromos.com
SUMMARY:World of Sports, World of Outdoors, Columbia, Mizuno, Saloman & Eastpak 50% Off Almost Everything 2 - 6 Apr 2015
DESCRIPTION:Enjoy 50% Off almost everything! Valid at World of Sports, World of Outdoors, Columbia, Mizuno, Saloman and Eastpak outlets too. For more information, visit [ https://singpromos.com/sports/world-of-sports-world-of-outdoors-columbia-mizuno-saloman-eastpak-50-off-almost-everything-2-6-apr-2015-141179/ ]. 
LOCATION:
URL:https://singpromos.com/sports/world-of-sports-world-of-outdoors-columbia-mizuno-saloman-eastpak-50-off-almost-everything-2-6-apr-2015-141179/
END:VEVENT
END:VCALENDAR