BEGIN:VCALENDAR
PRODID:-//SINGPromos.com//NONSGML v1.0//EN
VERSION:2.0
CALSCALE:GREGORIAN
METHOD:PUBLISH
X-WR-CALNAME:SINGPromos.com
X-ORIGINAL-URL:https://singpromos.com
X-WR-CALDESC:Events for SINGPromos.com
BEGIN:VEVENT
DTSTART:20150404T000000
DTEND:20150407T235900
DTSTAMP:20260422T044713
CREATED:20150404T181134
LAST-MODIFIED:20150404T181134
UID:141545@https://singpromos.com
SUMMARY:Harvey Norman Electronics, IT, Appliances & Other Offers 4 - 7 Apr 2015
DESCRIPTION:Check out Harvey Norman's latest $5 Million Clearance in 5 Days offers valid till 7 April 2014.. For more information, visit [ https://singpromos.com/department-stores/harvey-norman-electronics-it-appliances-other-offers-4-7-apr-2015-141545/ ]. 
LOCATION:
URL:https://singpromos.com/department-stores/harvey-norman-electronics-it-appliances-other-offers-4-7-apr-2015-141545/
END:VEVENT
END:VCALENDAR