BEGIN:VCALENDAR
PRODID:-//SINGPromos.com//NONSGML v1.0//EN
VERSION:2.0
CALSCALE:GREGORIAN
METHOD:PUBLISH
X-WR-CALNAME:SINGPromos.com
X-ORIGINAL-URL:https://singpromos.com
X-WR-CALDESC:Events for SINGPromos.com
BEGIN:VEVENT
DTSTART:20150404T000000
DTEND:20150410T235900
DTSTAMP:20260420T051015
CREATED:20150404T124830
LAST-MODIFIED:20150404T153927
UID:141557@https://singpromos.com
SUMMARY:Starhub Smartphones, Tablets, Cable TV & Broadband Offers 4 - 10 Apr 2015
DESCRIPTION:New $39.90/mth dual broadband 200Mbps Fibre Broadband + 100Mbps Cable Broadband plan. 1Gbps Fibre Broadband at $49.90/mth.. For more information, visit [ https://singpromos.com/telecoms/starhub-smartphones-tablets-cable-tv-broadband-offers-4-10-apr-2015-141557/ ]. 
LOCATION:
URL:https://singpromos.com/telecoms/starhub-smartphones-tablets-cable-tv-broadband-offers-4-10-apr-2015-141557/
END:VEVENT
END:VCALENDAR