BEGIN:VCALENDAR
PRODID:-//SINGPromos.com//NONSGML v1.0//EN
VERSION:2.0
CALSCALE:GREGORIAN
METHOD:PUBLISH
X-WR-CALNAME:SINGPromos.com
X-ORIGINAL-URL:https://singpromos.com
X-WR-CALDESC:Events for SINGPromos.com
BEGIN:VEVENT
DTSTART:20150406T000000
DTEND:20150419T235900
DTSTAMP:20260420T055441
CREATED:20150409T141342
LAST-MODIFIED:20150409T141348
UID:142121@https://singpromos.com
SUMMARY:Lock & Lock Warehouse Sale @ Giant Tampines 6 - 19 Apr 2015
DESCRIPTION:Enjoy up to 70% off Lock & Lock, Algo, Esleen, Pearl Life, Inomata and SSS. For more information, visit [ https://singpromos.com/warehouse-sales/lock-lock-warehouse-sale-giant-tampines-6-19-apr-2015-142121/ ]. 
LOCATION:528765
URL:https://singpromos.com/warehouse-sales/lock-lock-warehouse-sale-giant-tampines-6-19-apr-2015-142121/
END:VEVENT
END:VCALENDAR