BEGIN:VCALENDAR
PRODID:-//SINGPromos.com//NONSGML v1.0//EN
VERSION:2.0
CALSCALE:GREGORIAN
METHOD:PUBLISH
X-WR-CALNAME:SINGPromos.com
X-ORIGINAL-URL:https://singpromos.com
X-WR-CALDESC:Events for SINGPromos.com
BEGIN:VEVENT
DTSTART:20150411T000000
DTEND:20150413T235900
DTSTAMP:20260420T050959
CREATED:20150411T135722
LAST-MODIFIED:20150411T135722
UID:142393@https://singpromos.com
SUMMARY:World of Sports, World of Outdoors, Columbia, Mizuno, Saloman & Eastpak Up to 50% off Almost Everything 11 Apr 2015
DESCRIPTION:Enjoy up to 50% Off almost everything! Valid at World of Sports, World of Outdoors, Columbia, Mizuno, Saloman and Eastpak outlets too. For more information, visit [ https://singpromos.com/sports/world-of-sports-world-of-outdoors-columbia-mizuno-saloman-eastpak-up-to-50-off-almost-everything-11-apr-2015-142393/ ]. 
LOCATION:
URL:https://singpromos.com/sports/world-of-sports-world-of-outdoors-columbia-mizuno-saloman-eastpak-up-to-50-off-almost-everything-11-apr-2015-142393/
END:VEVENT
END:VCALENDAR