BEGIN:VCALENDAR
PRODID:-//SINGPromos.com//NONSGML v1.0//EN
VERSION:2.0
CALSCALE:GREGORIAN
METHOD:PUBLISH
X-WR-CALNAME:SINGPromos.com
X-ORIGINAL-URL:https://singpromos.com
X-WR-CALDESC:Events for SINGPromos.com
BEGIN:VEVENT
DTSTART:20150413T000000
DTEND:20150419T235900
DTSTAMP:20260422T082302
CREATED:20150413T005428
LAST-MODIFIED:20150413T115946
UID:142579@https://singpromos.com
SUMMARY:TigerAir From $42 (all-in) Promo Fares 13 - 19 Apr 2015
DESCRIPTION:Shenzhen all-in return from S$195, Male all-in return from S$249, Kuala Lumpur one-way fr $42, Langkawi $49, Jakarta $49, Ho Chi Minh City $56, Krabi $48, Phuket $58, Penang $59 and more. For more information, visit [ https://singpromos.com/airlines-flights/tigerair-from-42-all-in-promo-fares-13-19-apr-2015-142579/ ]. 
LOCATION:
URL:https://singpromos.com/airlines-flights/tigerair-from-42-all-in-promo-fares-13-19-apr-2015-142579/
END:VEVENT
END:VCALENDAR