BEGIN:VCALENDAR
PRODID:-//SINGPromos.com//NONSGML v1.0//EN
VERSION:2.0
CALSCALE:GREGORIAN
METHOD:PUBLISH
X-WR-CALNAME:SINGPromos.com
X-ORIGINAL-URL:https://singpromos.com
X-WR-CALDESC:Events for SINGPromos.com
BEGIN:VEVENT
DTSTART:20150414T000000
DTEND:20150510T235900
DTSTAMP:20260419T230626
CREATED:20150414T170748
LAST-MODIFIED:20150511T202159
UID:142740@https://singpromos.com
SUMMARY:Mad for Garlic 1 for 1 Pizzas Takeaway Coupon @ Suntec City Mall 14 Apr 2015
DESCRIPTION:Usual $45+, now $22.50 for two whole 12 inch pizzas. Pizza choices include Garlic Snowing Pizza, Ham & Sausage Pizza, Gorgonzola Cheese Pizza, BBQ Chicken Ranch Pizza, Pumpkin Spicy Cream Pizza & Margherita Pizza.. For more information, visit [ https://singpromos.com/dining-restaurants-food/mad-for-garlic-1-for-1-pizzas-takeaway-coupon-suntec-city-mall-14-apr-2015-142740/ ]. 
LOCATION:
URL:https://singpromos.com/dining-restaurants-food/mad-for-garlic-1-for-1-pizzas-takeaway-coupon-suntec-city-mall-14-apr-2015-142740/
END:VEVENT
END:VCALENDAR