BEGIN:VCALENDAR
PRODID:-//SINGPromos.com//NONSGML v1.0//EN
VERSION:2.0
CALSCALE:GREGORIAN
METHOD:PUBLISH
X-WR-CALNAME:SINGPromos.com
X-ORIGINAL-URL:https://singpromos.com
X-WR-CALDESC:Events for SINGPromos.com
BEGIN:VEVENT
DTSTART:20150418T000000
DTEND:20150419T235900
DTSTAMP:20260420T073143
CREATED:20150414T181546
LAST-MODIFIED:20150417T145036
UID:142755@https://singpromos.com
SUMMARY:Dynasty Travel Fair @ Suntec City Mall 18 - 19 Apr 2015
DESCRIPTION:Book your 2015 summer holidays now & enjoy up to 30% Off for 2nd pax. For more information, visit [ https://singpromos.com/happenings/dynasty-travel-fair-suntec-city-mall-18-19-apr-2015-142755/ ]. 
LOCATION:038983
URL:https://singpromos.com/happenings/dynasty-travel-fair-suntec-city-mall-18-19-apr-2015-142755/
END:VEVENT
END:VCALENDAR