BEGIN:VCALENDAR
PRODID:-//SINGPromos.com//NONSGML v1.0//EN
VERSION:2.0
CALSCALE:GREGORIAN
METHOD:PUBLISH
X-WR-CALNAME:SINGPromos.com
X-ORIGINAL-URL:https://singpromos.com
X-WR-CALDESC:Events for SINGPromos.com
BEGIN:VEVENT
DTSTART:20150424T000000
DTEND:20150430T235900
DTSTAMP:20260420T191416
CREATED:20150424T221301
LAST-MODIFIED:20150424T221301
UID:144215@https://singpromos.com
SUMMARY:Dunkin Donuts Buy Wow Value Set & Get $1 Off Donut 24 - 30 Apr 2015
DESCRIPTION:Flash the image to enjoy 1 regular donut at $1 (U.P. $1.80) with every purchase of a Wow Value Set.. For more information, visit [ https://singpromos.com/dining-restaurants-food/dunkin-donuts-buy-wow-value-set-get-1-off-donut-24-30-apr-2015-144215/ ]. 
LOCATION:
URL:https://singpromos.com/dining-restaurants-food/dunkin-donuts-buy-wow-value-set-get-1-off-donut-24-30-apr-2015-144215/
END:VEVENT
END:VCALENDAR