BEGIN:VCALENDAR
PRODID:-//SINGPromos.com//NONSGML v1.0//EN
VERSION:2.0
CALSCALE:GREGORIAN
METHOD:PUBLISH
X-WR-CALNAME:SINGPromos.com
X-ORIGINAL-URL:https://singpromos.com
X-WR-CALDESC:Events for SINGPromos.com
BEGIN:VEVENT
DTSTART:20150424T000000
DTEND:20150503T235900
DTSTAMP:20260420T035719
CREATED:20150425T100538
LAST-MODIFIED:20150425T010646
UID:144256@https://singpromos.com
SUMMARY:Cristofori 5.1% Off Pianos Promotion 24 Apr - 3 May 2015
DESCRIPTION:Get 5.1% off labour day discount on pianos priced above $2,000. For more information, visit [ https://singpromos.com/music/cristofori-5-1-off-pianos-promotion-24-apr-3-may-2015-144256/ ]. 
LOCATION:489980
URL:https://singpromos.com/music/cristofori-5-1-off-pianos-promotion-24-apr-3-may-2015-144256/
END:VEVENT
END:VCALENDAR