BEGIN:VCALENDAR
PRODID:-//SINGPromos.com//NONSGML v1.0//EN
VERSION:2.0
CALSCALE:GREGORIAN
METHOD:PUBLISH
X-WR-CALNAME:SINGPromos.com
X-ORIGINAL-URL:https://singpromos.com
X-WR-CALDESC:Events for SINGPromos.com
BEGIN:VEVENT
DTSTART:20150427T000000
DTEND:20150501T235900
DTSTAMP:20260422T082230
CREATED:20150427T012316
LAST-MODIFIED:20150427T124706
UID:144561@https://singpromos.com
SUMMARY:TigerAir fr $39 (all-in) & fr $118 (all-in return) Promo Fares 27 Apr - 1 May 2015
DESCRIPTION:Surabaya all-in return fr S$118, Denpasar (Bali) all-in return S$145, Chiang Mai all-in return S$229, Shenzhen all-in return S$254, Jakarta all-in return S$87, Ipoh S$39, Kuala Lumpur S$42, Langkawi S$45, Ho Chi Minh City S$56 & more. For more information, visit [ https://singpromos.com/airlines-flights/tigerair-fr-39-all-in-fr-118-all-in-return-promo-fares-27-apr-1-may-2015-144561/ ]. 
LOCATION:
URL:https://singpromos.com/airlines-flights/tigerair-fr-39-all-in-fr-118-all-in-return-promo-fares-27-apr-1-may-2015-144561/
END:VEVENT
END:VCALENDAR