BEGIN:VCALENDAR
PRODID:-//SINGPromos.com//NONSGML v1.0//EN
VERSION:2.0
CALSCALE:GREGORIAN
METHOD:PUBLISH
X-WR-CALNAME:SINGPromos.com
X-ORIGINAL-URL:https://singpromos.com
X-WR-CALDESC:Events for SINGPromos.com
BEGIN:VEVENT
DTSTART:20150501T000000
DTEND:20150510T235900
DTSTAMP:20260424T000152
CREATED:20150501T164857
LAST-MODIFIED:20150501T164857
UID:145166@https://singpromos.com
SUMMARY:Aerosoles 30% OFF May Day Sale 1 May 2015
DESCRIPTION:Valid for regular priced items only. For more information, visit [ https://singpromos.com/footwear/aerosoles-30-off-may-day-sale-1-may-2015-145166/ ]. 
LOCATION:
URL:https://singpromos.com/footwear/aerosoles-30-off-may-day-sale-1-may-2015-145166/
END:VEVENT
END:VCALENDAR