BEGIN:VCALENDAR
PRODID:-//SINGPromos.com//NONSGML v1.0//EN
VERSION:2.0
CALSCALE:GREGORIAN
METHOD:PUBLISH
X-WR-CALNAME:SINGPromos.com
X-ORIGINAL-URL:https://singpromos.com
X-WR-CALDESC:Events for SINGPromos.com
BEGIN:VEVENT
DTSTART:20150513T000000
DTEND:20150519T235900
DTSTAMP:20260422T082237
CREATED:20150511T154900
LAST-MODIFIED:20150503T205549
UID:145494@https://singpromos.com
SUMMARY:Isetan Bedlinen Sale @ Tampines Mall 13 - 19 May 2015
DESCRIPTION:Enjoy up to 70% off King Koil, Stylemaster, Disney and more. For more information, visit [ https://singpromos.com/happenings/isetan-bedlinen-sale-tampines-mall-13-19-may-2015-145494/ ]. 
LOCATION:529510
URL:https://singpromos.com/happenings/isetan-bedlinen-sale-tampines-mall-13-19-may-2015-145494/
END:VEVENT
END:VCALENDAR