BEGIN:VCALENDAR
PRODID:-//SINGPromos.com//NONSGML v1.0//EN
VERSION:2.0
CALSCALE:GREGORIAN
METHOD:PUBLISH
X-WR-CALNAME:SINGPromos.com
X-ORIGINAL-URL:https://singpromos.com
X-WR-CALDESC:Events for SINGPromos.com
BEGIN:VEVENT
DTSTART:20150504T000000
DTEND:20150510T235900
DTSTAMP:20260422T082307
CREATED:20150504T001452
LAST-MODIFIED:20150505T155923
UID:145572@https://singpromos.com
SUMMARY:TigerAir fr $52 (all-in) Return Promo Fares 4 - 10 May 2015
DESCRIPTION:Kuala Lumpur, Ipoh, Penang, Krabi, Langkawi, Phuket, Jakarta, Surabaya, Ho Chi Minh City and many more. For more information, visit [ https://singpromos.com/airlines-flights/tigerair-fr-52-all-in-return-promo-fares-4-10-may-2015-145572/ ]. 
LOCATION:
URL:https://singpromos.com/airlines-flights/tigerair-fr-52-all-in-return-promo-fares-4-10-may-2015-145572/
END:VEVENT
END:VCALENDAR