BEGIN:VCALENDAR
PRODID:-//SINGPromos.com//NONSGML v1.0//EN
VERSION:2.0
CALSCALE:GREGORIAN
METHOD:PUBLISH
X-WR-CALNAME:SINGPromos.com
X-ORIGINAL-URL:https://singpromos.com
X-WR-CALDESC:Events for SINGPromos.com
BEGIN:VEVENT
DTSTART:20150508T000000
DTEND:20150510T235900
DTSTAMP:20260420T051000
CREATED:20150504T153348
LAST-MODIFIED:20150508T203100
UID:145597@https://singpromos.com
SUMMARY:SG50 Electronics Fair @ Singapore Expo 8 - 10 May 2015
DESCRIPTION:Celebrate SG50 with greatly subsidised electronics deals at the SG50 Electronics Fair.. For more information, visit [ https://singpromos.com/happenings/sg50-electronics-fair-singapore-expo-8-10-may-2015-145597/ ]. 
LOCATION:486150
URL:https://singpromos.com/happenings/sg50-electronics-fair-singapore-expo-8-10-may-2015-145597/
END:VEVENT
END:VCALENDAR