BEGIN:VCALENDAR
PRODID:-//SINGPromos.com//NONSGML v1.0//EN
VERSION:2.0
CALSCALE:GREGORIAN
METHOD:PUBLISH
X-WR-CALNAME:SINGPromos.com
X-ORIGINAL-URL:https://singpromos.com
X-WR-CALDESC:Events for SINGPromos.com
BEGIN:VEVENT
DTSTART:20110108T000000
DTEND:20110114T235900
DTSTAMP:20260420T041653
CREATED:20110109T021130
LAST-MODIFIED:20110123T040213
UID:1458@https://singpromos.com
SUMMARY:M1 8 January 2011 Mobile Phone & Tablet Price List
DESCRIPTION:M1 is offering "exclusive tablet deals". Models offered are Huawei IDEOS S7, Samsung Galaxy Tab and Viewsonic Viewpad 7. Valid till 14th January 2011. Apple iPhone 4 is also now available at M1 while stocks last. . For more information, visit [ https://singpromos.com/telecoms/m1-8-january-2011-mobile-phone-tablet-price-list-1458/ ]. 
LOCATION:
URL:https://singpromos.com/telecoms/m1-8-january-2011-mobile-phone-tablet-price-list-1458/
END:VEVENT
END:VCALENDAR