BEGIN:VCALENDAR
PRODID:-//SINGPromos.com//NONSGML v1.0//EN
VERSION:2.0
CALSCALE:GREGORIAN
METHOD:PUBLISH
X-WR-CALNAME:SINGPromos.com
X-ORIGINAL-URL:https://singpromos.com
X-WR-CALDESC:Events for SINGPromos.com
BEGIN:VEVENT
DTSTART:20150507T000000
DTEND:20150530T235900
DTSTAMP:20260422T082232
CREATED:20150507T173200
LAST-MODIFIED:20150507T173302
UID:146021@https://singpromos.com
SUMMARY:Ferrara Bathroom & Kitchen SG50 Promotions 7 - 30 May 2015
DESCRIPTION:Grab toilets at just over $200, basins at just over $150 and full hand shower sets at not more than $400. For more information, visit [ https://singpromos.com/household/ferrara-bathroom-kitchen-sg50-promotions-7-30-may-2015-146021/ ]. 
LOCATION:408868
URL:https://singpromos.com/household/ferrara-bathroom-kitchen-sg50-promotions-7-30-may-2015-146021/
END:VEVENT
END:VCALENDAR