BEGIN:VCALENDAR
PRODID:-//SINGPromos.com//NONSGML v1.0//EN
VERSION:2.0
CALSCALE:GREGORIAN
METHOD:PUBLISH
X-WR-CALNAME:SINGPromos.com
X-ORIGINAL-URL:https://singpromos.com
X-WR-CALDESC:Events for SINGPromos.com
BEGIN:VEVENT
DTSTART:20150508T000000
DTEND:20150517T235900
DTSTAMP:20260420T203425
CREATED:20150508T143325
LAST-MODIFIED:20150508T144633
UID:146055@https://singpromos.com
SUMMARY:NDP 2015 Tickets Application Dates & Procedures 8 - 17 May 2015
DESCRIPTION:Singapore Citizens (SG) and Permanent Residents (PR) can apply for tickets to the Preview and NDP from 8 to 17 May 2015.. For more information, visit [ https://singpromos.com/places-of-interest/ndp-2015-tickets-application-dates-procedures-8-17-may-2015-146055/ ]. 
LOCATION:
URL:https://singpromos.com/places-of-interest/ndp-2015-tickets-application-dates-procedures-8-17-may-2015-146055/
END:VEVENT
END:VCALENDAR