BEGIN:VCALENDAR
PRODID:-//SINGPromos.com//NONSGML v1.0//EN
VERSION:2.0
CALSCALE:GREGORIAN
METHOD:PUBLISH
X-WR-CALNAME:SINGPromos.com
X-ORIGINAL-URL:https://singpromos.com
X-WR-CALDESC:Events for SINGPromos.com
BEGIN:VEVENT
DTSTART:20150512T000000
DTEND:20150528T235900
DTSTAMP:20260422T072157
CREATED:20150512T171858
LAST-MODIFIED:20150602T122204
UID:146714@https://singpromos.com
SUMMARY:Todai 1 For 1 Deal For Students & Family 12 May 2015
DESCRIPTION:One student dines free with every paying Adult - Mondays (University), Tuesdays (Primary), Wednesdays (Secondary) and Thursdays (JC, Pre-U, ITE). For more information, visit [ https://singpromos.com/dining-restaurants-food/todai-1-for-1-deal-for-students-family-12-may-2015-146714/ ]. 
LOCATION:
URL:https://singpromos.com/dining-restaurants-food/todai-1-for-1-deal-for-students-family-12-may-2015-146714/
END:VEVENT
END:VCALENDAR