BEGIN:VCALENDAR
PRODID:-//SINGPromos.com//NONSGML v1.0//EN
VERSION:2.0
CALSCALE:GREGORIAN
METHOD:PUBLISH
X-WR-CALNAME:SINGPromos.com
X-ORIGINAL-URL:https://singpromos.com
X-WR-CALDESC:Events for SINGPromos.com
BEGIN:VEVENT
DTSTART:20150516T000000
DTEND:20150524T235900
DTSTAMP:20260422T082144
CREATED:20150516T191757
LAST-MODIFIED:20150516T191757
UID:147493@https://singpromos.com
SUMMARY:Grohe 50% Off Flash Sale Promotion 16 - 24 May 2015
DESCRIPTION:Enjoy 50% off on selected premium range items. For more information, visit [ https://singpromos.com/household/grohe-50-off-flash-sale-promotion-16-24-may-2015-147493/ ]. 
LOCATION:
URL:https://singpromos.com/household/grohe-50-off-flash-sale-promotion-16-24-may-2015-147493/
END:VEVENT
END:VCALENDAR