BEGIN:VCALENDAR
PRODID:-//SINGPromos.com//NONSGML v1.0//EN
VERSION:2.0
CALSCALE:GREGORIAN
METHOD:PUBLISH
X-WR-CALNAME:SINGPromos.com
X-ORIGINAL-URL:https://singpromos.com
X-WR-CALDESC:Events for SINGPromos.com
BEGIN:VEVENT
DTSTART:20150516T000000
DTEND:20150719T235900
DTSTAMP:20260420T013813
CREATED:20150516T191645
LAST-MODIFIED:20150624T004139
UID:147496@https://singpromos.com
SUMMARY:Royal Sporting House Up to 30% Off Great Sports Sale 16 May - 19 Jul 2015
DESCRIPTION:Enjoy up to 20% off with $60 nett purchase or up to 30% off with $120 nett purcha. For more information, visit [ https://singpromos.com/sports/royal-sporting-house-up-to-30-off-great-sports-sale-16-may-2015-147496/ ]. 
LOCATION:
URL:https://singpromos.com/sports/royal-sporting-house-up-to-30-off-great-sports-sale-16-may-2015-147496/
END:VEVENT
END:VCALENDAR