BEGIN:VCALENDAR
PRODID:-//SINGPromos.com//NONSGML v1.0//EN
VERSION:2.0
CALSCALE:GREGORIAN
METHOD:PUBLISH
X-WR-CALNAME:SINGPromos.com
X-ORIGINAL-URL:https://singpromos.com
X-WR-CALDESC:Events for SINGPromos.com
BEGIN:VEVENT
DTSTART:20150529T000000
DTEND:20150601T235900
DTSTAMP:20260420T035719
CREATED:20150518T173351
LAST-MODIFIED:20150518T173351
UID:147742@https://singpromos.com
SUMMARY:Cristofori Warehouse Sale @ Bedok 29 May - 1 Jun 2015
DESCRIPTION:Features musical instruments such as piano, digital piano, keyboards, drums, guitars and ukulele at discounted prices. For more information, visit [ https://singpromos.com/warehouse-sales/cristofori-warehouse-sale-bedok-29-may-1-jun-2015-147742/ ]. 
LOCATION:489980
URL:https://singpromos.com/warehouse-sales/cristofori-warehouse-sale-bedok-29-may-1-jun-2015-147742/
END:VEVENT
END:VCALENDAR