BEGIN:VCALENDAR
PRODID:-//SINGPromos.com//NONSGML v1.0//EN
VERSION:2.0
CALSCALE:GREGORIAN
METHOD:PUBLISH
X-WR-CALNAME:SINGPromos.com
X-ORIGINAL-URL:https://singpromos.com
X-WR-CALDESC:Events for SINGPromos.com
BEGIN:VEVENT
DTSTART:20150522T000000
DTEND:20150524T235900
DTSTAMP:20260420T061842
CREATED:20150521T114827
LAST-MODIFIED:20150521T115029
UID:148024@https://singpromos.com
SUMMARY:Frasers Centrepoint Malls 1 for 1 Dining Deals (Direct In-Store Redemption) 22 - 24 May 2015
DESCRIPTION:Dunkin' Donuts, Breadtalk, Lerk Thai, Oldtown White Coffee, Manhattan Fish Market, Soup Restaurant & more - Limited to first 100 customers per store on a first-come-first-served-basis, while stocks last. For more information, visit [ https://singpromos.com/dining-restaurants-food/frasers-centrepoint-malls-1-for-1-dining-deals-direct-in-store-redemption-22-24-may-2015-148024/ ]. 
LOCATION:
URL:https://singpromos.com/dining-restaurants-food/frasers-centrepoint-malls-1-for-1-dining-deals-direct-in-store-redemption-22-24-may-2015-148024/
END:VEVENT
END:VCALENDAR