BEGIN:VCALENDAR
PRODID:-//SINGPromos.com//NONSGML v1.0//EN
VERSION:2.0
CALSCALE:GREGORIAN
METHOD:PUBLISH
X-WR-CALNAME:SINGPromos.com
X-ORIGINAL-URL:https://singpromos.com
X-WR-CALDESC:Events for SINGPromos.com
BEGIN:VEVENT
DTSTART:20150525T000000
DTEND:20150531T235900
DTSTAMP:20260420T061852
CREATED:20150521T223135
LAST-MODIFIED:20150521T223317
UID:148116@https://singpromos.com
SUMMARY:Guardian Health & Beauty Baby Fair @ Northpoint 25 - 31 May 2015
DESCRIPTION:Free Goodie Bag worth $25 with minimum $100 spend in a single receipt at the atrium.. For more information, visit [ https://singpromos.com/happenings/guardian-health-beauty-baby-fair-northpoint-25-31-may-2015-148116/ ]. 
LOCATION:769098
URL:https://singpromos.com/happenings/guardian-health-beauty-baby-fair-northpoint-25-31-may-2015-148116/
END:VEVENT
END:VCALENDAR