BEGIN:VCALENDAR
PRODID:-//SINGPromos.com//NONSGML v1.0//EN
VERSION:2.0
CALSCALE:GREGORIAN
METHOD:PUBLISH
X-WR-CALNAME:SINGPromos.com
X-ORIGINAL-URL:https://singpromos.com
X-WR-CALDESC:Events for SINGPromos.com
BEGIN:VEVENT
DTSTART:20150522T000000
DTEND:20150621T235900
DTSTAMP:20260422T082239
CREATED:20150522T194640
LAST-MODIFIED:20150522T194640
UID:148294@https://singpromos.com
SUMMARY:Dumex Mamil Gold Spend $380 & Get Free Mayer Airfryer @ Cold Storage 22 May - 21 Jun 2015
DESCRIPTION:Free Mayer AirFryer worth $299 MMAF2 White or MMAF3 Black with minimum spend of $380 on Dumex Mamil Gold products.. For more information, visit [ https://singpromos.com/babies-mothers/dumex-mamil-gold-spend-380-get-free-mayer-airfryer-cold-storage-22-may-21-jun-2015-148294/ ]. 
LOCATION:
URL:https://singpromos.com/babies-mothers/dumex-mamil-gold-spend-380-get-free-mayer-airfryer-cold-storage-22-may-21-jun-2015-148294/
END:VEVENT
END:VCALENDAR