BEGIN:VCALENDAR
PRODID:-//SINGPromos.com//NONSGML v1.0//EN
VERSION:2.0
CALSCALE:GREGORIAN
METHOD:PUBLISH
X-WR-CALNAME:SINGPromos.com
X-ORIGINAL-URL:https://singpromos.com
X-WR-CALDESC:Events for SINGPromos.com
BEGIN:VEVENT
DTSTART:20150522T000000
DTEND:20150604T235900
DTSTAMP:20260420T055358
CREATED:20150522T204102
LAST-MODIFIED:20150522T204102
UID:148352@https://singpromos.com
SUMMARY:Giant Hypermarket Appliances, TVs, Electric Scooters & More Offers 22 May - 4 Jun 2015
DESCRIPTION:Mobot e-Scooters & e-Bikes, Powerpac appliances, Akira electronics, TVs and more. For more information, visit [ https://singpromos.com/department-stores/giant-hypermarket-appliances-tvs-electric-scooters-more-offers-22-may-4-jun-2015-148352/ ]. 
LOCATION:
URL:https://singpromos.com/department-stores/giant-hypermarket-appliances-tvs-electric-scooters-more-offers-22-may-4-jun-2015-148352/
END:VEVENT
END:VCALENDAR