BEGIN:VCALENDAR
PRODID:-//SINGPromos.com//NONSGML v1.0//EN
VERSION:2.0
CALSCALE:GREGORIAN
METHOD:PUBLISH
X-WR-CALNAME:SINGPromos.com
X-ORIGINAL-URL:https://singpromos.com
X-WR-CALDESC:Events for SINGPromos.com
BEGIN:VEVENT
DTSTART:20150607T000000
DTEND:20150628T235900
DTSTAMP:20260420T061850
CREATED:20150526T161827
LAST-MODIFIED:20150526T162041
UID:148804@https://singpromos.com
SUMMARY:Timezone 100% Extra Double Dollar Sundays Promo 7 - 28 Jun 2015
DESCRIPTION:Buy $30 and get an additional $30 FREE. For more information, visit [ https://singpromos.com/places-of-interest/timezone-100-extra-double-dollar-sundays-promo-7-28-jun-2015-148804/ ]. 
LOCATION:
URL:https://singpromos.com/places-of-interest/timezone-100-extra-double-dollar-sundays-promo-7-28-jun-2015-148804/
END:VEVENT
END:VCALENDAR