BEGIN:VCALENDAR
PRODID:-//SINGPromos.com//NONSGML v1.0//EN
VERSION:2.0
CALSCALE:GREGORIAN
METHOD:PUBLISH
X-WR-CALNAME:SINGPromos.com
X-ORIGINAL-URL:https://singpromos.com
X-WR-CALDESC:Events for SINGPromos.com
BEGIN:VEVENT
DTSTART:20150605T000000
DTEND:20150606T235900
DTSTAMP:20260420T035618
CREATED:20150530T175116
LAST-MODIFIED:20150530T175116
UID:149231@https://singpromos.com
SUMMARY:IKEA Ultimate Offers Promotion 5 - 6 Jun 2015
DESCRIPTION:Get ready for a fun-filled day out with the family, with exciting activities, dining deals and Special Daily Offers!. For more information, visit [ https://singpromos.com/department-stores/ikea-ultimate-offers-promotion-5-6-jun-2015-149231/ ]. 
LOCATION:
URL:https://singpromos.com/department-stores/ikea-ultimate-offers-promotion-5-6-jun-2015-149231/
END:VEVENT
END:VCALENDAR