BEGIN:VCALENDAR
PRODID:-//SINGPromos.com//NONSGML v1.0//EN
VERSION:2.0
CALSCALE:GREGORIAN
METHOD:PUBLISH
X-WR-CALNAME:SINGPromos.com
X-ORIGINAL-URL:https://singpromos.com
X-WR-CALDESC:Events for SINGPromos.com
BEGIN:VEVENT
DTSTART:20150531T000000
DTEND:20150630T235900
DTSTAMP:20260420T014606
CREATED:20150531T161724
LAST-MODIFIED:20150531T161724
UID:149441@https://singpromos.com
SUMMARY:Braun Personal Care Promo Offers @ Best Denki 31 May - 30 Jun 2015
DESCRIPTION:Experience Braun's Latest and Best at Best denki. For more information, visit [ https://singpromos.com/personal-care/braun-personal-care-promo-offers-best-denki-31-may-30-jun-2015-149441/ ]. 
LOCATION:
URL:https://singpromos.com/personal-care/braun-personal-care-promo-offers-best-denki-31-may-30-jun-2015-149441/
END:VEVENT
END:VCALENDAR