BEGIN:VCALENDAR
PRODID:-//SINGPromos.com//NONSGML v1.0//EN
VERSION:2.0
CALSCALE:GREGORIAN
METHOD:PUBLISH
X-WR-CALNAME:SINGPromos.com
X-ORIGINAL-URL:https://singpromos.com
X-WR-CALDESC:Events for SINGPromos.com
BEGIN:VEVENT
DTSTART:20150601T000000
DTEND:20150607T235900
DTSTAMP:20260422T082129
CREATED:20150601T005408
LAST-MODIFIED:20150601T005408
UID:149490@https://singpromos.com
SUMMARY:TigerAir fr $35 (all-in) Promo Fares 1 - 7 Jun 2015
DESCRIPTION:Kuala Lumpur from $35 (all-in), Jakarta $51, Ho Chi Minh City $56, Krabi $56, Ipoh $59, Penang $59 and many more. For more information, visit [ https://singpromos.com/airlines-flights/tigerair-fr-35-all-in-promo-fares-1-7-jun-2015-149490/ ]. 
LOCATION:
URL:https://singpromos.com/airlines-flights/tigerair-fr-35-all-in-promo-fares-1-7-jun-2015-149490/
END:VEVENT
END:VCALENDAR