BEGIN:VCALENDAR
PRODID:-//SINGPromos.com//NONSGML v1.0//EN
VERSION:2.0
CALSCALE:GREGORIAN
METHOD:PUBLISH
X-WR-CALNAME:SINGPromos.com
X-ORIGINAL-URL:https://singpromos.com
X-WR-CALDESC:Events for SINGPromos.com
BEGIN:VEVENT
DTSTART:20150602T000000
DTEND:20150628T235900
DTSTAMP:20260422T082137
CREATED:20150602T110748
LAST-MODIFIED:20150602T011009
UID:149588@https://singpromos.com
SUMMARY:Panasonic Digital Cameras & Lenses GSS Deals 2 - 28 Jun 2015
DESCRIPTION:Check out Panasonic's latest Lumix Digital Cameras and Lenses offers. For more information, visit [ https://singpromos.com/digital-cameras-dslr/panasonic-digital-cameras-lenses-gss-deals-2-28-jun-2015-149588/ ]. 
LOCATION:
URL:https://singpromos.com/digital-cameras-dslr/panasonic-digital-cameras-lenses-gss-deals-2-28-jun-2015-149588/
END:VEVENT
END:VCALENDAR