BEGIN:VCALENDAR
PRODID:-//SINGPromos.com//NONSGML v1.0//EN
VERSION:2.0
CALSCALE:GREGORIAN
METHOD:PUBLISH
X-WR-CALNAME:SINGPromos.com
X-ORIGINAL-URL:https://singpromos.com
X-WR-CALDESC:Events for SINGPromos.com
BEGIN:VEVENT
DTSTART:20150605T000000
DTEND:20150605T235900
DTSTAMP:20260420T191405
CREATED:20150605T121357
LAST-MODIFIED:20150605T121424
UID:149897@https://singpromos.com
SUMMARY:Dunkin' Donuts Buy Beverage & Get FREE Donut 5 Jun 2015
DESCRIPTION:Get a FREE donut with any Dunkin' beverage purchase.. For more information, visit [ https://singpromos.com/dining-restaurants-food/dunkin-donuts-buy-beverage-get-free-donut-5-jun-2015-149897/ ]. 
LOCATION:
URL:https://singpromos.com/dining-restaurants-food/dunkin-donuts-buy-beverage-get-free-donut-5-jun-2015-149897/
END:VEVENT
END:VCALENDAR