BEGIN:VCALENDAR
PRODID:-//SINGPromos.com//NONSGML v1.0//EN
VERSION:2.0
CALSCALE:GREGORIAN
METHOD:PUBLISH
X-WR-CALNAME:SINGPromos.com
X-ORIGINAL-URL:https://singpromos.com
X-WR-CALDESC:Events for SINGPromos.com
BEGIN:VEVENT
DTSTART:20150605T000000
DTEND:20150628T235900
DTSTAMP:20260422T082319
CREATED:20150606T001840
LAST-MODIFIED:20150619T143558
UID:150004@https://singpromos.com
SUMMARY:Dockers Pants Promotion 5 Jun 2015
DESCRIPTION:Purchase any 2 for $149.90 and any 3 for $199.90. For more information, visit [ https://singpromos.com/fashion-accessories/dockers-pants-promotion-5-jun-2015-150004/ ]. 
LOCATION:
URL:https://singpromos.com/fashion-accessories/dockers-pants-promotion-5-jun-2015-150004/
END:VEVENT
END:VCALENDAR