BEGIN:VCALENDAR
PRODID:-//SINGPromos.com//NONSGML v1.0//EN
VERSION:2.0
CALSCALE:GREGORIAN
METHOD:PUBLISH
X-WR-CALNAME:SINGPromos.com
X-ORIGINAL-URL:https://singpromos.com
X-WR-CALDESC:Events for SINGPromos.com
BEGIN:VEVENT
DTSTART:20150606T000000
DTEND:20150630T235900
DTSTAMP:20260422T082238
CREATED:20150606T133834
LAST-MODIFIED:20150606T133834
UID:150058@https://singpromos.com
SUMMARY:Minions New Launch Offers @ Takashimaya D.S. 6 - 30 Jun 2015
DESCRIPTION:Check out some Minions Merchandise, Apparel, Trolley Bags, School Supplies, Water Bottles, Cushions, Fitted Sheets and more. Meet And Greet also available on weekends. For more information, visit [ https://singpromos.com/happenings/minions-new-launch-offers-takashimaya-d-s-6-30-jun-2015-150058/ ]. 
LOCATION:238873
URL:https://singpromos.com/happenings/minions-new-launch-offers-takashimaya-d-s-6-30-jun-2015-150058/
END:VEVENT
END:VCALENDAR