BEGIN:VCALENDAR
PRODID:-//SINGPromos.com//NONSGML v1.0//EN
VERSION:2.0
CALSCALE:GREGORIAN
METHOD:PUBLISH
X-WR-CALNAME:SINGPromos.com
X-ORIGINAL-URL:https://singpromos.com
X-WR-CALDESC:Events for SINGPromos.com
BEGIN:VEVENT
DTSTART:20150608T000000
DTEND:20150630T235900
DTSTAMP:20260422T190246
CREATED:20150608T121507
LAST-MODIFIED:20150608T121507
UID:150237@https://singpromos.com
SUMMARY:Pie Face Buy Regular Pie & Get Free Sweet Pie @ Nex 8 - 30 Jun 2015
DESCRIPTION:Save up to $3.90 with Pie Face's latest promotion - get a FREE sweet or mini pie with every regular pie purchase at its Nex outlet. For more information, visit [ https://singpromos.com/dining-restaurants-food/pie-face-buy-regular-pie-get-free-sweet-pie-nex-8-30-jun-2015-150237/ ]. 
LOCATION:556083
URL:https://singpromos.com/dining-restaurants-food/pie-face-buy-regular-pie-get-free-sweet-pie-nex-8-30-jun-2015-150237/
END:VEVENT
END:VCALENDAR