BEGIN:VCALENDAR
PRODID:-//SINGPromos.com//NONSGML v1.0//EN
VERSION:2.0
CALSCALE:GREGORIAN
METHOD:PUBLISH
X-WR-CALNAME:SINGPromos.com
X-ORIGINAL-URL:https://singpromos.com
X-WR-CALDESC:Events for SINGPromos.com
BEGIN:VEVENT
DTSTART:20150612T000000
DTEND:20150614T235900
DTSTAMP:20260420T020911
CREATED:20150611T205623
LAST-MODIFIED:20150612T203255
UID:150654@https://singpromos.com
SUMMARY:Baby Baby @ Singapore Expo 12 - 14 Jun 2015
DESCRIPTION:Mom & Me, Free Goodie Bag, Super Crazy Deals, Grand Lucky Draw, DJs from Kiss92, Cover Baby Photo Contest photo shoot & more. For more information, visit [ https://singpromos.com/happenings/baby-baby-singapore-expo-12-14-jun-2015-150654/ ]. 
LOCATION:486150
URL:https://singpromos.com/happenings/baby-baby-singapore-expo-12-14-jun-2015-150654/
END:VEVENT
END:VCALENDAR