BEGIN:VCALENDAR
PRODID:-//SINGPromos.com//NONSGML v1.0//EN
VERSION:2.0
CALSCALE:GREGORIAN
METHOD:PUBLISH
X-WR-CALNAME:SINGPromos.com
X-ORIGINAL-URL:https://singpromos.com
X-WR-CALDESC:Events for SINGPromos.com
BEGIN:VEVENT
DTSTART:20150611T000000
DTEND:20150624T235900
DTSTAMP:20260422T075746
CREATED:20150614T163747
LAST-MODIFIED:20150614T163747
UID:150879@https://singpromos.com
SUMMARY:NTUC Fairprice Catalogue Super Saver, Wines, Groceries & More Offers 11 - 24 Jun 2015
DESCRIPTION:Featuring the latest Catalogue Super Saver, Ifan & Europace cooling appliances offers, Father's Day Wines, Health Supplements and other offers. For more information, visit [ https://singpromos.com/department-stores/ntuc-fairprice-catalogue-super-saver-wines-groceries-more-offers-11-24-jun-2015-150879/ ]. 
LOCATION:
URL:https://singpromos.com/department-stores/ntuc-fairprice-catalogue-super-saver-wines-groceries-more-offers-11-24-jun-2015-150879/
END:VEVENT
END:VCALENDAR