BEGIN:VCALENDAR
PRODID:-//SINGPromos.com//NONSGML v1.0//EN
VERSION:2.0
CALSCALE:GREGORIAN
METHOD:PUBLISH
X-WR-CALNAME:SINGPromos.com
X-ORIGINAL-URL:https://singpromos.com
X-WR-CALDESC:Events for SINGPromos.com
BEGIN:VEVENT
DTSTART:20150616T000000
DTEND:20150623T235900
DTSTAMP:20260420T035720
CREATED:20150616T081428
LAST-MODIFIED:20150615T221816
UID:150978@https://singpromos.com
SUMMARY:IKEA Free $50 Gift Card With DBS/POSB 0% Interest IPP Plans 16 Jun - 23 Aug 2015
DESCRIPTION:Simply make a minimum spend of S$1,300 with DBS/POSB Visa or MasterCard Credit Cards only. For more information, visit [ https://singpromos.com/department-stores/ikea-free-50-gift-card-with-dbsposb-0-interest-ipp-plans-16-jun-23-aug-2015-150978/ ]. 
LOCATION:
URL:https://singpromos.com/department-stores/ikea-free-50-gift-card-with-dbsposb-0-interest-ipp-plans-16-jun-23-aug-2015-150978/
END:VEVENT
END:VCALENDAR