BEGIN:VCALENDAR
PRODID:-//SINGPromos.com//NONSGML v1.0//EN
VERSION:2.0
CALSCALE:GREGORIAN
METHOD:PUBLISH
X-WR-CALNAME:SINGPromos.com
X-ORIGINAL-URL:https://singpromos.com
X-WR-CALDESC:Events for SINGPromos.com
BEGIN:VEVENT
DTSTART:20150629T000000
DTEND:20150705T235900
DTSTAMP:20260420T074529
CREATED:20150616T154108
LAST-MODIFIED:20150616T010055
UID:151001@https://singpromos.com
SUMMARY:UOB Roadshow @ NorthPoint 29 Jun - 5 Jul 2015
DESCRIPTION:Find out the perks of having UOB credit cards. For more information, visit [ https://singpromos.com/happenings/uob-roadshow-northpoint-29-jun-5-jul-2015-151001/ ]. 
LOCATION:769098
URL:https://singpromos.com/happenings/uob-roadshow-northpoint-29-jun-5-jul-2015-151001/
END:VEVENT
END:VCALENDAR