BEGIN:VCALENDAR
PRODID:-//SINGPromos.com//NONSGML v1.0//EN
VERSION:2.0
CALSCALE:GREGORIAN
METHOD:PUBLISH
X-WR-CALNAME:SINGPromos.com
X-ORIGINAL-URL:https://singpromos.com
X-WR-CALDESC:Events for SINGPromos.com
BEGIN:VEVENT
DTSTART:20150616T000000
DTEND:20150816T235900
DTSTAMP:20260420T035719
CREATED:20150616T111541
LAST-MODIFIED:20150616T010831
UID:151007@https://singpromos.com
SUMMARY:IKEA Promo Offers 16 Jun - 16 Aug 2015
DESCRIPTION:VITTSJÖ nest of tables, KALLAX shelving unit, VITTSJÖ laptop stand, BORGHILD sheer curtains, OTTIL cushion cover & more. For more information, visit [ https://singpromos.com/department-stores/ikea-promo-offers-16-jun-16-aug-2015-151007/ ]. 
LOCATION:
URL:https://singpromos.com/department-stores/ikea-promo-offers-16-jun-16-aug-2015-151007/
END:VEVENT
END:VCALENDAR